BEGIN:VCALENDAR
VERSION:2.0
PRODID:-//Plone.org//NONSGML plone.app.event//EN
X-WR-TIMEZONE:Europe/Madrid
BEGIN:VEVENT
SUMMARY:Enostast. Tastet de revetlla
DTSTART;TZID=Europe/Madrid;VALUE=DATE-TIME:20160611T210000
DTEND;TZID=Europe/Madrid;VALUE=DATE-TIME:20160611T220000
DTSTAMP;VALUE=DATE-TIME:20260422T010143Z
UID:a4c3487fdc04f45393cc8e8c11b65ce7
CREATED;VALUE=DATE-TIME:20160611T000000Z
CATEGORIES:
LOCATION:Oficina de Turisme - Riera Fosca 2. 08328 Alella
ORGANIZER:Ajuntament d'Alella
URL:https://alella.cat/document.php?id=6770
END:VEVENT
END:VCALENDAR