BEGIN:VCALENDAR
VERSION:2.0
PRODID:-//Plone.org//NONSGML plone.app.event//EN
X-WR-TIMEZONE:Europe/Madrid
BEGIN:VEVENT
SUMMARY:Nit del Comerç
DTSTART;TZID=Europe/Madrid;VALUE=DATE-TIME:20160611T200000
DTEND;TZID=Europe/Madrid;VALUE=DATE-TIME:20160611T210000
DTSTAMP;VALUE=DATE-TIME:20260422T025109Z
UID:6bade61a755d10f0cb93352aec39d0aa
CREATED;VALUE=DATE-TIME:20160611T000000Z
CATEGORIES:
LOCATION:Plaça de l'Ajuntament, plaça d'Antoni Pujadas i Torrent Vallbona
ORGANIZER:Ajuntament d'Alella
URL:https://alella.cat/document.php?id=6768
END:VEVENT
END:VCALENDAR