BEGIN:VCALENDAR
VERSION:2.0
PRODID:-//Plone.org//NONSGML plone.app.event//EN
X-WR-TIMEZONE:Europe/Madrid
BEGIN:VEVENT
SUMMARY:Festival de fi de curs de l'Escola de Dansa
DTSTART;TZID=Europe/Madrid;VALUE=DATE-TIME:20160611T180000
DTEND;TZID=Europe/Madrid;VALUE=DATE-TIME:20160611T190000
DTSTAMP;VALUE=DATE-TIME:20260423T141943Z
UID:c269f698e1c6a035d66dd7797114a06e
CREATED;VALUE=DATE-TIME:20160611T000000Z
CATEGORIES:
LOCATION:Teatre La Massa de Vilassar de Dalt
ORGANIZER:Ajuntament d'Alella
URL:https://alella.cat/document.php?id=6767
END:VEVENT
END:VCALENDAR