BEGIN:VCALENDAR
VERSION:2.0
PRODID:-//Plone.org//NONSGML plone.app.event//EN
X-WR-TIMEZONE:Europe/Madrid
BEGIN:VEVENT
SUMMARY:Junta de Govern Local
DTSTART;TZID=Europe/Madrid;VALUE=DATE-TIME:20160526T183000
DTEND;TZID=Europe/Madrid;VALUE=DATE-TIME:20160526T193000
DTSTAMP;VALUE=DATE-TIME:20260424T192026Z
UID:d00e35cd6610cb9f6a429cde7ff971e9
CREATED;VALUE=DATE-TIME:20160526T000000Z
CATEGORIES:Agenda institucional
LOCATION:Sala de Juntes
URL:https://alella.cat/document.php?id=6595
END:VEVENT
END:VCALENDAR