BEGIN:VCALENDAR
VERSION:2.0
PRODID:-//Plone.org//NONSGML plone.app.event//EN
X-WR-TIMEZONE:Europe/Madrid
BEGIN:VEVENT
SUMMARY:Reunió de membres de la Ruta del Vi DO Alella
DTSTART;TZID=Europe/Madrid;VALUE=DATE-TIME:20160502T103000
DTEND;TZID=Europe/Madrid;VALUE=DATE-TIME:20160502T113000
DTSTAMP;VALUE=DATE-TIME:20260423T185034Z
UID:fd606b212bf4bbe735c061eb7835febb
CREATED;VALUE=DATE-TIME:20160502T000000Z
CATEGORIES:Agenda institucional
LOCATION:Centre Cultural de Can Lleonart
URL:https://alella.cat/document.php?id=6578
END:VEVENT
END:VCALENDAR