BEGIN:VCALENDAR
VERSION:2.0
PRODID:-//Plone.org//NONSGML plone.app.event//EN
X-WR-TIMEZONE:Europe/Madrid
BEGIN:VEVENT
SUMMARY:Reunió de treball amb el Diputat Delegat de Cultura de la Diputació
DTSTART;TZID=Europe/Madrid;VALUE=DATE-TIME:20160412T100000
DTEND;TZID=Europe/Madrid;VALUE=DATE-TIME:20160412T110000
DTSTAMP;VALUE=DATE-TIME:20260421T071416Z
UID:85343cccfa325a28db9706729756ccc8
CREATED;VALUE=DATE-TIME:20160412T000000Z
CATEGORIES:Agenda institucional
LOCATION:Diputació de Barcelona
URL:https://alella.cat/document.php?id=6430
END:VEVENT
END:VCALENDAR