BEGIN:VCALENDAR
VERSION:2.0
PRODID:-//Plone.org//NONSGML plone.app.event//EN
X-WR-TIMEZONE:Europe/Madrid
BEGIN:VEVENT
SUMMARY:Entrevista amb TV3
DTSTART;TZID=Europe/Madrid;VALUE=DATE-TIME:20160315T110000
DTEND;TZID=Europe/Madrid;VALUE=DATE-TIME:20160315T120000
DTSTAMP;VALUE=DATE-TIME:20260422T180026Z
UID:a30d2fa130c0d44993cc520dc303217c
CREATED;VALUE=DATE-TIME:20160315T000000Z
CATEGORIES:Agenda institucional
LOCATION:Despatx d'alcaldia
URL:https://alella.cat/document.php?id=6412
END:VEVENT
END:VCALENDAR