BEGIN:VCALENDAR
VERSION:2.0
PRODID:-//Plone.org//NONSGML plone.app.event//EN
X-WR-TIMEZONE:Europe/Madrid
BEGIN:VEVENT
SUMMARY:Debats d'actualitat a l'Espai Jove
DTSTART;TZID=Europe/Madrid;VALUE=DATE-TIME:20160310T200000
DTEND;TZID=Europe/Madrid;VALUE=DATE-TIME:20160310T210000
DTSTAMP;VALUE=DATE-TIME:20260426T023502Z
UID:08e6df225e1894d772892d53cb9e99ef
CREATED;VALUE=DATE-TIME:20160310T000000Z
CATEGORIES:
LOCATION:Espai Jove - Avinguda Ferran Fabra, 1 08328
ORGANIZER:Ajuntament d'Alella
URL:https://alella.cat/document.php?id=6360
END:VEVENT
END:VCALENDAR