BEGIN:VCALENDAR
VERSION:2.0
PRODID:-//Plone.org//NONSGML plone.app.event//EN
X-WR-TIMEZONE:Europe/Madrid
BEGIN:VEVENT
SUMMARY:Inauguració de l'exposició "Arxivar el paisatge d'Alella"
DTSTART;TZID=Europe/Madrid;VALUE=DATE-TIME:20160306T120000
DTEND;TZID=Europe/Madrid;VALUE=DATE-TIME:20160306T130000
DTSTAMP;VALUE=DATE-TIME:20260423T080953Z
UID:577ecf8f64e022ad1f410b7f33d86e4f
CREATED;VALUE=DATE-TIME:20160306T000000Z
CATEGORIES:
LOCATION:Can Manyé. Espai d'art i creació - Riera Coma Fosca 42. 08328 Alella
ORGANIZER:Ajuntament d'Alella
URL:https://alella.cat/document.php?id=6347
END:VEVENT
END:VCALENDAR