BEGIN:VCALENDAR
VERSION:2.0
PRODID:-//Plone.org//NONSGML plone.app.event//EN
X-WR-TIMEZONE:Europe/Madrid
BEGIN:VEVENT
SUMMARY:Tertúlia. "La dona a través de la història de l'art"
DTSTART;TZID=Europe/Madrid;VALUE=DATE-TIME:20160303T200000
DTEND;TZID=Europe/Madrid;VALUE=DATE-TIME:20160303T210000
DTSTAMP;VALUE=DATE-TIME:20260426T023331Z
UID:2aad00803e9bdc1dbc34d0d47e2f61d8
CREATED;VALUE=DATE-TIME:20160303T000000Z
CATEGORIES:
LOCATION:Centre Cultural de Can Lleonart - Plaça dels Germans Lleonart, 1 08328 Alella
ORGANIZER:Ajuntament d'Alella
URL:https://alella.cat/document.php?id=6316
END:VEVENT
END:VCALENDAR