BEGIN:VCALENDAR
VERSION:2.0
PRODID:-//Plone.org//NONSGML plone.app.event//EN
X-WR-TIMEZONE:Europe/Madrid
BEGIN:VEVENT
SUMMARY:Literatura amb sentits. Amb el poeta i artista visual Perejaume
DTSTART;TZID=Europe/Madrid;VALUE=DATE-TIME:20160224T193000
DTEND;TZID=Europe/Madrid;VALUE=DATE-TIME:20160224T203000
DTSTAMP;VALUE=DATE-TIME:20260422T113140Z
UID:9ea7fbc43761162c865c2b9e6648147c
CREATED;VALUE=DATE-TIME:20160224T000000Z
CATEGORIES:
LOCATION:Can Manyé. Espai d'art i creació - Riera Coma Fosca 42. 08328 Alella
ORGANIZER:Ajuntament d'Alella
URL:https://alella.cat/document.php?id=6313
END:VEVENT
END:VCALENDAR