BEGIN:VCALENDAR
VERSION:2.0
PRODID:-//Plone.org//NONSGML plone.app.event//EN
X-WR-TIMEZONE:Europe/Madrid
BEGIN:VEVENT
SUMMARY:Projecció de la pel·lícula "Fotonovela", de Toni Garriga i Jan Baca
DTSTART;TZID=Europe/Madrid;VALUE=DATE-TIME:20160223T193000
DTEND;TZID=Europe/Madrid;VALUE=DATE-TIME:20160223T203000
DTSTAMP;VALUE=DATE-TIME:20260426T010903Z
UID:d248f9956213390247fe34b0640e739a
CREATED;VALUE=DATE-TIME:20160223T000000Z
CATEGORIES:
LOCATION:Can Manyé. Espai d'art i creació - Riera Coma Fosca 42. 08328 Alella
ORGANIZER:Ajuntament d'Alella
DESCRIPTION:AJORNADA
URL:https://alella.cat/document.php?id=6306
END:VEVENT
END:VCALENDAR