BEGIN:VCALENDAR
VERSION:2.0
PRODID:-//Plone.org//NONSGML plone.app.event//EN
X-WR-TIMEZONE:Europe/Madrid
BEGIN:VEVENT
SUMMARY:Jornada de portes obertes a l'Escola La Serreta
DTSTART;TZID=Europe/Madrid;VALUE=DATE-TIME:20160217T170000
DTEND;TZID=Europe/Madrid;VALUE=DATE-TIME:20160217T180000
DTSTAMP;VALUE=DATE-TIME:20260421T050549Z
UID:5dcc4a8c1433644a751cdfba14360956
CREATED;VALUE=DATE-TIME:20160217T000000Z
CATEGORIES:
LOCATION:Escola La Serreta - C/ La Vinya 47-51
ORGANIZER:Ajuntament d'Alella
URL:https://alella.cat/document.php?id=6289
END:VEVENT
END:VCALENDAR