BEGIN:VCALENDAR
VERSION:2.0
PRODID:-//Plone.org//NONSGML plone.app.event//EN
X-WR-TIMEZONE:Europe/Madrid
BEGIN:VEVENT
SUMMARY:Visita guiada a l'exposició "Llindars en el punt immòbil del món que gira".
DTSTART;TZID=Europe/Madrid;VALUE=DATE-TIME:20160207T120000
DTEND;TZID=Europe/Madrid;VALUE=DATE-TIME:20160207T130000
DTSTAMP;VALUE=DATE-TIME:20260424T094328Z
UID:3c01a9bc4f191bbaa289f8b5c7177ca3
CREATED;VALUE=DATE-TIME:20160207T000000Z
CATEGORIES:
LOCATION:Can Manyé. Espai d'art i creació - Riera Coma Fosca 42. 08328 Alella
ORGANIZER:Ajuntament d'Alella
URL:https://alella.cat/document.php?id=6278
END:VEVENT
END:VCALENDAR