BEGIN:VCALENDAR
VERSION:2.0
PRODID:-//Plone.org//NONSGML plone.app.event//EN
X-WR-TIMEZONE:Europe/Madrid
BEGIN:VEVENT
SUMMARY:Taller de fanalets
DTSTART;TZID=Europe/Madrid;VALUE=DATE-TIME:20160104T170000
DTEND;TZID=Europe/Madrid;VALUE=DATE-TIME:20160104T180000
DTSTAMP;VALUE=DATE-TIME:20260424T151758Z
UID:053c9c68b87429fde6ce6fbfc7cbc2d1
CREATED;VALUE=DATE-TIME:20160104T000000Z
CATEGORIES:
LOCATION:Antigues Escoles Fabra - Avinguda Ferran Fabra, 1 08328
ORGANIZER:Esplai Guaita'l amb la col·laboració de l'Ajuntament
COMMENT:Durada: De 17 a 19.30h
URL:https://alella.cat/document.php?id=6175
END:VEVENT
END:VCALENDAR