BEGIN:VCALENDAR
VERSION:2.0
PRODID:-//Plone.org//NONSGML plone.app.event//EN
X-WR-TIMEZONE:Europe/Madrid
BEGIN:VEVENT
SUMMARY:Dia Internacional contra la Violència Masclista. "Dona i Art"
DTSTART;TZID=Europe/Madrid;VALUE=DATE-TIME:20151125T191500
DTEND;TZID=Europe/Madrid;VALUE=DATE-TIME:20151125T201500
DTSTAMP;VALUE=DATE-TIME:20260423T202819Z
UID:d64898629a48b57da46167b7b2654ed6
CREATED;VALUE=DATE-TIME:20151125T000000Z
CATEGORIES:
LOCATION:Can Manyé. Espai d'art i creació - Riera Coma Fosca 42. 08328 Alella
ORGANIZER:Ajuntament d'Alella
URL:https://alella.cat/document.php?id=6027
END:VEVENT
END:VCALENDAR