BEGIN:VCALENDAR
VERSION:2.0
PRODID:-//Plone.org//NONSGML plone.app.event//EN
X-WR-TIMEZONE:Europe/Madrid
BEGIN:VEVENT
SUMMARY:VI Setmana del Vi DO Alella. Tast al mercat amb DO Alella i música en directe
DTSTART;TZID=Europe/Madrid;VALUE=DATE-TIME:20150926T200000
DTEND;TZID=Europe/Madrid;VALUE=DATE-TIME:20150926T210000
DTSTAMP;VALUE=DATE-TIME:20260421T195201Z
UID:baeab54d8b6cd24be8f444a8e4433a4b
CREATED;VALUE=DATE-TIME:20150926T000000Z
CATEGORIES:
LOCATION:Mercat Municipal
ORGANIZER:Consorci de Promoció Enoturística del Territori DO Alella i Ajuntament d'Alella
URL:https://alella.cat/document.php?id=5830
END:VEVENT
END:VCALENDAR