BEGIN:VCALENDAR
VERSION:2.0
PRODID:-//Plone.org//NONSGML plone.app.event//EN
X-WR-TIMEZONE:Europe/Madrid
BEGIN:VEVENT
SUMMARY:Inscripcions a les activitats de la 41a Festa de la Verema
DTSTART;TZID=Europe/Madrid;VALUE=DATE-TIME:20150829T100000
DTEND;TZID=Europe/Madrid;VALUE=DATE-TIME:20150829T110000
DTSTAMP;VALUE=DATE-TIME:20260421T125309Z
UID:b140f50ddb6e7129841c8ed80160e2b6
CREATED;VALUE=DATE-TIME:20150829T000000Z
CATEGORIES:
LOCATION:Oficina de Turisme - Riera Fosca 2. 08328 Alella
ORGANIZER:Ajuntament d'Alella
URL:https://alella.cat/document.php?id=5757
END:VEVENT
END:VCALENDAR