BEGIN:VCALENDAR
VERSION:2.0
PRODID:-//Plone.org//NONSGML plone.app.event//EN
X-WR-TIMEZONE:Europe/Madrid
BEGIN:VEVENT
SUMMARY:Festa Major. Sopar popular
DTSTART;TZID=Europe/Madrid;VALUE=DATE-TIME:20150801T210000
DTEND;TZID=Europe/Madrid;VALUE=DATE-TIME:20150801T220000
DTSTAMP;VALUE=DATE-TIME:20260424T221659Z
UID:c6f4c94dcaab49b8357ad8e423af38fb
CREATED;VALUE=DATE-TIME:20150801T000000Z
CATEGORIES:
LOCATION:Plaça de l'Ajuntament - Plaça de l'Ajuntament, s/n. 08328 Alella
ORGANIZER:Ajuntament d'Alella
URL:https://alella.cat/document.php?id=5744
END:VEVENT
END:VCALENDAR