BEGIN:VCALENDAR
VERSION:2.0
PRODID:-//Plone.org//NONSGML plone.app.event//EN
X-WR-TIMEZONE:Europe/Madrid
BEGIN:VEVENT
SUMMARY:Festival d'Estiu. Segon concert de Músics en Residènca
DTSTART;TZID=Europe/Madrid;VALUE=DATE-TIME:20150725T220000
DTEND;TZID=Europe/Madrid;VALUE=DATE-TIME:20150725T230000
DTSTAMP;VALUE=DATE-TIME:20260420T151956Z
UID:fa03da0a67df0ca34f4a4fbeecf9c4ec
CREATED;VALUE=DATE-TIME:20150725T000000Z
CATEGORIES:
LOCATION:Església Parroquial de Sant Feliu
ORGANIZER:Ajuntament d'Alella
URL:https://alella.cat/document.php?id=5677
END:VEVENT
END:VCALENDAR