BEGIN:VCALENDAR
VERSION:2.0
PRODID:-//Plone.org//NONSGML plone.app.event//EN
X-WR-TIMEZONE:Europe/Madrid
BEGIN:VEVENT
SUMMARY:Literatura amb els cinc sentits
DTSTART;TZID=Europe/Madrid;VALUE=DATE-TIME:20150630T193000
DTEND;TZID=Europe/Madrid;VALUE=DATE-TIME:20150630T203000
DTSTAMP;VALUE=DATE-TIME:20260422T193707Z
UID:747f3d43cc4104153c3474fa35aa8b17
CREATED;VALUE=DATE-TIME:20150630T000000Z
CATEGORIES:
LOCATION:Celler Alta Alella
ORGANIZER:Ajuntament d'Alella
URL:https://alella.cat/document.php?id=5484
END:VEVENT
END:VCALENDAR