BEGIN:VCALENDAR
VERSION:2.0
PRODID:-//Plone.org//NONSGML plone.app.event//EN
X-WR-TIMEZONE:Europe/Madrid
BEGIN:VEVENT
SUMMARY:Cap de Setmana Jove. Taller de "winecocktails"
DTSTART;TZID=Europe/Madrid;VALUE=DATE-TIME:20150418T200000
DTEND;TZID=Europe/Madrid;VALUE=DATE-TIME:20150418T210000
DTSTAMP;VALUE=DATE-TIME:20260421T145416Z
UID:c27613739a64832cfe8cbec750175b31
CREATED;VALUE=DATE-TIME:20150418T000000Z
CATEGORIES:
LOCATION:Antigues Escoles Fabra - Avinguda Ferran Fabra, 1 08328
ORGANIZER:Ajuntament d'Alella
URL:https://alella.cat/document.php?id=5348
END:VEVENT
END:VCALENDAR