BEGIN:VCALENDAR
VERSION:2.0
PRODID:-//Plone.org//NONSGML plone.app.event//EN
X-WR-TIMEZONE:Europe/Madrid
BEGIN:VEVENT
SUMMARY:Cap de Setmana Jove. Xerrada "Els mitjans de comunicació i el racisme"
DTSTART;TZID=Europe/Madrid;VALUE=DATE-TIME:20150418T180000
DTEND;TZID=Europe/Madrid;VALUE=DATE-TIME:20150418T190000
DTSTAMP;VALUE=DATE-TIME:20260424T120316Z
UID:125a4ea1356fb82cc323982d929296e8
CREATED;VALUE=DATE-TIME:20150418T000000Z
CATEGORIES:
LOCATION:Espai Jove - Avinguda Ferran Fabra, 1 08328
ORGANIZER:Ajuntament d'Alella
URL:https://alella.cat/document.php?id=5347
END:VEVENT
END:VCALENDAR