BEGIN:VCALENDAR
VERSION:2.0
PRODID:-//Plone.org//NONSGML plone.app.event//EN
X-WR-TIMEZONE:Europe/Madrid
BEGIN:VEVENT
SUMMARY:Espais de Poesia. "Ah!". Laboratori i lectura dramatitzada
DTSTART;TZID=Europe/Madrid;VALUE=DATE-TIME:20150418T110000
DTEND;TZID=Europe/Madrid;VALUE=DATE-TIME:20150418T120000
DTSTAMP;VALUE=DATE-TIME:20260424T121905Z
UID:e0ff7f72a68b44901681c8fb30bf6e90
CREATED;VALUE=DATE-TIME:20150418T000000Z
CATEGORIES:
LOCATION:Can Manyé. Espai d'art i creació - Riera Coma Fosca 42. 08328 Alella
ORGANIZER:Ajuntament d'Alella
COMMENT:Durada: D'11 a 14h i de 16 a 20h
URL:https://alella.cat/document.php?id=5317
END:VEVENT
END:VCALENDAR