BEGIN:VCALENDAR
VERSION:2.0
PRODID:-//Plone.org//NONSGML plone.app.event//EN
X-WR-TIMEZONE:Europe/Madrid
BEGIN:VEVENT
SUMMARY:Omplim la xarxa de poesia!
DTSTART;TZID=Europe/Madrid;VALUE=DATE-TIME:20150323T190000
DTEND;TZID=Europe/Madrid;VALUE=DATE-TIME:20150323T200000
DTSTAMP;VALUE=DATE-TIME:20260422T025211Z
UID:973b9f025201478de42da8e5749ce926
CREATED;VALUE=DATE-TIME:20150323T000000Z
CATEGORIES:
LOCATION:Can Manyé. Espai d'art i creació - Riera Coma Fosca 42. 08328 Alella
ORGANIZER:Ajuntament d'Alella
COMMENT:Durada: De 19 a 21h
URL:https://alella.cat/document.php?id=5287
END:VEVENT
END:VCALENDAR