BEGIN:VCALENDAR
VERSION:2.0
PRODID:-//Plone.org//NONSGML plone.app.event//EN
X-WR-TIMEZONE:Europe/Madrid
BEGIN:VEVENT
SUMMARY:Passejada pel Parc Serralada Litoral. Paisatge humà antic a la Roca
DTSTART;TZID=Europe/Madrid;VALUE=DATE-TIME:20150315T093000
DTEND;TZID=Europe/Madrid;VALUE=DATE-TIME:20150315T103000
DTSTAMP;VALUE=DATE-TIME:20260424T054358Z
UID:2b30fc6d20ad6ce99174efffa0813f2f
CREATED;VALUE=DATE-TIME:20150315T000000Z
CATEGORIES:
LOCATION:Ajuntament de la Roca del Vallès
ORGANIZER:Consorci del Parc de la Serralada Litoral
URL:https://alella.cat/document.php?id=5211
END:VEVENT
END:VCALENDAR