BEGIN:VCALENDAR
VERSION:2.0
PRODID:-//Plone.org//NONSGML plone.app.event//EN
X-WR-TIMEZONE:Europe/Madrid
BEGIN:VEVENT
SUMMARY:El cafè de les tres a la llar d'infants
DTSTART;TZID=Europe/Madrid;VALUE=DATE-TIME:20150115T150000
DTEND;TZID=Europe/Madrid;VALUE=DATE-TIME:20150115T160000
DTSTAMP;VALUE=DATE-TIME:20260424T192103Z
UID:446073f52ece2d1dda18b86bedc67973
CREATED;VALUE=DATE-TIME:20150115T000000Z
CATEGORIES:
LOCATION:Llar d'Infants Municipal Els Pinyons - Avinguda del Bosquet, 5
ORGANIZER:Ajuntament d'Alella
URL:https://alella.cat/document.php?id=5055
END:VEVENT
END:VCALENDAR