BEGIN:VCALENDAR
VERSION:2.0
PRODID:-//Plone.org//NONSGML plone.app.event//EN
X-WR-TIMEZONE:Europe/Madrid
BEGIN:VEVENT
SUMMARY:Fira de Nadal. Activitats infantils
DTSTART;TZID=Europe/Madrid;VALUE=DATE-TIME:20141213T110000
DTEND;TZID=Europe/Madrid;VALUE=DATE-TIME:20141213T120000
DTSTAMP;VALUE=DATE-TIME:20260420T003733Z
UID:c45d3731308afe3621c1c81ab54fd5c4
CREATED;VALUE=DATE-TIME:20141213T000000Z
CATEGORIES:
LOCATION:Plaça de l'Ajuntament i carrer Àfrica
ORGANIZER:Ajuntament d'Alella
COMMENT:Durada: D'11 a 14h i de 17 a 20h
URL:https://alella.cat/document.php?id=4927
END:VEVENT
END:VCALENDAR