BEGIN:VCALENDAR
VERSION:2.0
PRODID:-//Plone.org//NONSGML plone.app.event//EN
X-WR-TIMEZONE:Europe/Madrid
BEGIN:VEVENT
SUMMARY:Fira de Nadal. Trenet de Nadal
DTSTART;TZID=Europe/Madrid;VALUE=DATE-TIME:20141213T103000
DTEND;TZID=Europe/Madrid;VALUE=DATE-TIME:20141213T113000
DTSTAMP;VALUE=DATE-TIME:20260424T233726Z
UID:04af7a52987315a9bce0f1e6b55c44f8
CREATED;VALUE=DATE-TIME:20141213T000000Z
CATEGORIES:
LOCATION:Carrer les Heures i carrer Àfrica
ORGANIZER:Ajuntament d'Alella
COMMENT:Durada: De 10.30 a 14.30 i de 16.30 a 20.30h
URL:https://alella.cat/document.php?id=4925
END:VEVENT
END:VCALENDAR