BEGIN:VCALENDAR
VERSION:2.0
PRODID:-//Plone.org//NONSGML plone.app.event//EN
X-WR-TIMEZONE:Europe/Madrid
BEGIN:VEVENT
SUMMARY:Fira de Nadal
DTSTART;TZID=Europe/Madrid;VALUE=DATE-TIME:20141213T100000
DTEND;TZID=Europe/Madrid;VALUE=DATE-TIME:20141213T110000
DTSTAMP;VALUE=DATE-TIME:20260425T235027Z
UID:7ef24208980b7e6a47ea41e2f5e30554
CREATED;VALUE=DATE-TIME:20141213T000000Z
CATEGORIES:
LOCATION:Rambla d'Àngel Guimerà i Plaça dels Germans Lleonart
ORGANIZER:Ajuntament d'Alella
COMMENT:Durada: DE 10 a 20h
URL:https://alella.cat/document.php?id=4922
END:VEVENT
END:VCALENDAR