BEGIN:VCALENDAR
VERSION:2.0
PRODID:-//Plone.org//NONSGML plone.app.event//EN
X-WR-TIMEZONE:Europe/Madrid
BEGIN:VEVENT
SUMMARY:Setmana del Vi DO Alella. Degustació de vins Marquès d'Alella
DTSTART;TZID=Europe/Madrid;VALUE=DATE-TIME:20141004T091500
DTEND;TZID=Europe/Madrid;VALUE=DATE-TIME:20141004T101500
DTSTAMP;VALUE=DATE-TIME:20260424T041341Z
UID:6f26627e1e4b0332aa03e924a549686c
CREATED;VALUE=DATE-TIME:20141004T000000Z
CATEGORIES:
LOCATION:Companyia d'Alella
ORGANIZER:Companyia d'Alella amb la col·laboració del Consorci DO Alella
URL:https://alella.cat/document.php?id=4486
END:VEVENT
END:VCALENDAR