BEGIN:VCALENDAR
VERSION:2.0
PRODID:-//Plone.org//NONSGML plone.app.event//EN
X-WR-TIMEZONE:Europe/Madrid
BEGIN:VEVENT
SUMMARY:Vinalia Rustica. Passejada romana per Alella, Teià i el Masnou
DTSTART;TZID=Europe/Madrid;VALUE=DATE-TIME:20140927T183000
DTEND;TZID=Europe/Madrid;VALUE=DATE-TIME:20140927T193000
DTSTAMP;VALUE=DATE-TIME:20260422T144317Z
UID:b5fa1d64c4c59cb180a12f5a6848c55e
CREATED;VALUE=DATE-TIME:20140927T000000Z
CATEGORIES:
LOCATION:Centre d'Acollida Turística - Ernest Lluch, 40. 08329 Teià
ORGANIZER:Ajuntaments d'Alella, el Masnou i Teià
URL:https://alella.cat/document.php?id=4444
END:VEVENT
END:VCALENDAR