BEGIN:VCALENDAR
VERSION:2.0
PRODID:-//Plone.org//NONSGML plone.app.event//EN
X-WR-TIMEZONE:Europe/Madrid
BEGIN:VEVENT
SUMMARY:Tu fas Alella! Trobada d'Entitats i del Voluntariat
DTSTART;TZID=Europe/Madrid;VALUE=DATE-TIME:20141012T100000
DTEND;TZID=Europe/Madrid;VALUE=DATE-TIME:20141012T110000
DTSTAMP;VALUE=DATE-TIME:20260422T010903Z
UID:2f48a232fa62cc0e72091f02ad29e7b2
CREATED;VALUE=DATE-TIME:20141012T000000Z
CATEGORIES:
LOCATION:Plaça de l'Ajuntament - Plaça de l'Ajuntament, s/n. 08328 Alella
ORGANIZER:Ajuntament d'Alella
COMMENT:Durada: DE 10 a 14h
DESCRIPTION:ANUL·LADA
URL:https://alella.cat/document.php?id=4399
END:VEVENT
END:VCALENDAR