BEGIN:VCALENDAR
VERSION:2.0
PRODID:-//Plone.org//NONSGML plone.app.event//EN
X-WR-TIMEZONE:Europe/Madrid
BEGIN:VEVENT
SUMMARY:Ofrena floral d'homenatge a la República
DTSTART;TZID=Europe/Madrid;VALUE=DATE-TIME:20140414T120000
DTEND;TZID=Europe/Madrid;VALUE=DATE-TIME:20140414T130000
DTSTAMP;VALUE=DATE-TIME:20260421T220801Z
UID:45ef62dac6f2b9c696c1580815dc22cf
CREATED;VALUE=DATE-TIME:20140414T000000Z
CATEGORIES:
LOCATION:Plaça d'Antoni Pujadas - Plaça d'Antoni Pujadas. 08328 Alella
ORGANIZER:Ajuntament d'Alella
URL:https://alella.cat/document.php?id=3950
END:VEVENT
END:VCALENDAR