BEGIN:VCALENDAR
VERSION:2.0
PRODID:-//Plone.org//NONSGML plone.app.event//EN
X-WR-TIMEZONE:Europe/Madrid
BEGIN:VEVENT
SUMMARY:Biblioteques amb DO. Literatura i el vi del Priorat
DTSTART;TZID=Europe/Madrid;VALUE=DATE-TIME:20140327T200000
DTEND;TZID=Europe/Madrid;VALUE=DATE-TIME:20140327T210000
DTSTAMP;VALUE=DATE-TIME:20260421T233524Z
UID:dc223dfca392153310a3906bade56b19
CREATED;VALUE=DATE-TIME:20140327T000000Z
CATEGORIES:
LOCATION:Biblioteca Municipal Ferrer i Guàrdia - Hort de la Rectoria. 08328 Alella
ORGANIZER:Ajuntament d'Alella
URL:https://alella.cat/document.php?id=3905
END:VEVENT
END:VCALENDAR