BEGIN:VCALENDAR
VERSION:2.0
PRODID:-//Plone.org//NONSGML plone.app.event//EN
X-WR-TIMEZONE:Europe/Madrid
BEGIN:VEVENT
SUMMARY:Xerrada. Què hi ha darrera del teu mòbil?
DTSTART;TZID=Europe/Madrid;VALUE=DATE-TIME:20140403T190000
DTEND;TZID=Europe/Madrid;VALUE=DATE-TIME:20140403T200000
DTSTAMP;VALUE=DATE-TIME:20260424T103810Z
UID:fd516b83e735dcf423c0ab68975372a3
CREATED;VALUE=DATE-TIME:20140403T000000Z
CATEGORIES:
LOCATION:Antigues Escoles Fabra - Avinguda Ferran Fabra, 1 08328
ORGANIZER:Ajuntament d'Alella
URL:https://alella.cat/document.php?id=3904
END:VEVENT
END:VCALENDAR