BEGIN:VCALENDAR
VERSION:2.0
PRODID:-//Plone.org//NONSGML plone.app.event//EN
X-WR-TIMEZONE:Europe/Madrid
BEGIN:VEVENT
SUMMARY:Xerrada. "Viatjar en bicicleta"
DTSTART;TZID=Europe/Madrid;VALUE=DATE-TIME:20140314T190000
DTEND;TZID=Europe/Madrid;VALUE=DATE-TIME:20140314T200000
DTSTAMP;VALUE=DATE-TIME:20260426T020102Z
UID:0211bd4d125f2abe0ec74b304fa3f03a
CREATED;VALUE=DATE-TIME:20140314T000000Z
CATEGORIES:
LOCATION:Centre Cultural de Can Lleonart - Plaça dels Germans Lleonart, 1 08328 Alella
ORGANIZER:Ajuntament d'Alella
URL:https://alella.cat/document.php?id=3890
END:VEVENT
END:VCALENDAR