BEGIN:VCALENDAR
VERSION:2.0
PRODID:-//Plone.org//NONSGML plone.app.event//EN
X-WR-TIMEZONE:Europe/Madrid
BEGIN:VEVENT
SUMMARY:Tertúlia. &OpenCurlyDoubleQuote;Converses amb el cor&CloseCurlyDoubleQuote;
DTSTART;TZID=Europe/Madrid;VALUE=DATE-TIME:20140227T200000
DTEND;TZID=Europe/Madrid;VALUE=DATE-TIME:20140227T210000
DTSTAMP;VALUE=DATE-TIME:20260422T193855Z
UID:e886abad08803a446bdf4269c28a6b0a
CREATED;VALUE=DATE-TIME:20140227T000000Z
CATEGORIES:
LOCATION:Centre Cultural de Can Lleonart - Plaça dels Germans Lleonart, 1 08328 Alella
ORGANIZER:Ajuntament d'Alella
COMMENT:Preu: Gratuït
URL:https://alella.cat/document.php?id=3812
END:VEVENT
END:VCALENDAR