BEGIN:VCALENDAR
VERSION:2.0
PRODID:-//Plone.org//NONSGML plone.app.event//EN
X-WR-TIMEZONE:Europe/Madrid
BEGIN:VEVENT
SUMMARY:Reunió inicial de parelles lingüístiques.
DTSTART;TZID=Europe/Madrid;VALUE=DATE-TIME:20140226T190000
DTEND;TZID=Europe/Madrid;VALUE=DATE-TIME:20140226T200000
DTSTAMP;VALUE=DATE-TIME:20260422T180148Z
UID:75a3cf7c9c150658fe10f7b28a749f80
CREATED;VALUE=DATE-TIME:20140226T000000Z
CATEGORIES:
LOCATION:Sala polivalent de les Antigues Escoles Fabra - Avinguda Ferran Fabra, 1 08328
ORGANIZER:Ajuntament d'Alella
URL:https://alella.cat/document.php?id=3811
END:VEVENT
END:VCALENDAR