BEGIN:VCALENDAR
VERSION:2.0
PRODID:-//Plone.org//NONSGML plone.app.event//EN
X-WR-TIMEZONE:Europe/Madrid
BEGIN:VEVENT
SUMMARY:Visita guiada a la ruta "Alella, 1.000 anys d'història"
DTSTART;TZID=Europe/Madrid;VALUE=DATE-TIME:20140927T103000
DTEND;TZID=Europe/Madrid;VALUE=DATE-TIME:20140927T113000
DTSTAMP;VALUE=DATE-TIME:20260423T185120Z
UID:0fed52db5aacdfc08df15b62b81083dc
CREATED;VALUE=DATE-TIME:20140927T000000Z
CATEGORIES:
LOCATION:Oficina de Turisme - Riera Fosca 2. 08328 Alella
ORGANIZER:Ajuntament d'Alella
COMMENT:Preu: La visita és gratuïta perquè forma part del programa d'activitats de les Jornades Europees del Patrimoni a Catalunya 2014
Durada: Dues hores aproximadament
DESCRIPTION:Jornades Europees del Patrimoni a Catalunya 2014
URL:https://alella.cat/document.php?id=3746
END:VEVENT
END:VCALENDAR