BEGIN:VCALENDAR
VERSION:2.0
PRODID:-//Plone.org//NONSGML plone.app.event//EN
X-WR-TIMEZONE:Europe/Madrid
BEGIN:VEVENT
SUMMARY:Visita guiada a la ruta "Alella, 1.000 anys d'història"
DTSTART;TZID=Europe/Madrid;VALUE=DATE-TIME:20140329T103000
DTEND;TZID=Europe/Madrid;VALUE=DATE-TIME:20140329T113000
DTSTAMP;VALUE=DATE-TIME:20260424T064443Z
UID:54ba8e0673e4fdf5b2831ae6f9541f87
CREATED;VALUE=DATE-TIME:20140329T000000Z
CATEGORIES:
LOCATION:Oficina de Turisme - Riera Fosca 2. 08328 Alella
ORGANIZER:Ajuntament d'Alella
COMMENT:Preu: 4 euros. Gratuït per a menors de 8 anys i preu reduït de dos euros per a majors de 65 anys, aturats i grups a partir de 10 persones.
Durada: Dues hores aproximadament
URL:https://alella.cat/document.php?id=3741
END:VEVENT
END:VCALENDAR