BEGIN:VCALENDAR
VERSION:2.0
PRODID:-//Plone.org//NONSGML plone.app.event//EN
X-WR-TIMEZONE:Europe/Madrid
BEGIN:VEVENT
SUMMARY:Inflables per a infants i joves
DTSTART;TZID=Europe/Madrid;VALUE=DATE-TIME:20131214T110000
DTEND;TZID=Europe/Madrid;VALUE=DATE-TIME:20131214T120000
DTSTAMP;VALUE=DATE-TIME:20260424T121834Z
UID:ee5c064881aa3a2e7f3ddf49fbcc6db5
CREATED;VALUE=DATE-TIME:20131214T000000Z
CATEGORIES:Familiars
LOCATION:Carrer Àfrica i Plaça de l'Ajuntament
ORGANIZER:Ajuntament d'Alella
COMMENT:Preu: Gratuït
URL:https://alella.cat/document.php?id=3679
END:VEVENT
END:VCALENDAR