BEGIN:VCALENDAR
VERSION:2.0
PRODID:-//Plone.org//NONSGML plone.app.event//EN
X-WR-TIMEZONE:Europe/Madrid
BEGIN:VEVENT
SUMMARY:Trenet de Nadal, agafa'l per anar de compres!
DTSTART;TZID=Europe/Madrid;VALUE=DATE-TIME:20131214T103000
DTEND;TZID=Europe/Madrid;VALUE=DATE-TIME:20131214T113000
DTSTAMP;VALUE=DATE-TIME:20260424T011820Z
UID:46467cca0e9bba182308cc085ff4fa45
CREATED;VALUE=DATE-TIME:20131214T000000Z
CATEGORIES:Festes i fires
LOCATION:Parada de bus de Can Lleonart
ORGANIZER:Ajuntament d'Alella
COMMENT:Durada: Dissabte, de 10.30h a 20h i diumenge de 10.30 a 14h
URL:https://alella.cat/document.php?id=3673
END:VEVENT
END:VCALENDAR