BEGIN:VCALENDAR
VERSION:2.0
PRODID:-//Plone.org//NONSGML plone.app.event//EN
X-WR-TIMEZONE:Europe/Madrid
BEGIN:VEVENT
SUMMARY:Bus consum
DTSTART;TZID=Europe/Madrid;VALUE=DATE-TIME:20131213T103000
DTEND;TZID=Europe/Madrid;VALUE=DATE-TIME:20131213T113000
DTSTAMP;VALUE=DATE-TIME:20260421T233539Z
UID:063c013d23b5bff38e3712ba27b54b94
CREATED;VALUE=DATE-TIME:20131213T000000Z
CATEGORIES:
LOCATION:Aparcament de Can Lleonart
ORGANIZER:Ajuntament d'Alella i Diputació de Barcelona
COMMENT:Preu: Gratuït
URL:https://alella.cat/document.php?id=3666
END:VEVENT
END:VCALENDAR