BEGIN:VCALENDAR
VERSION:2.0
PRODID:-//Plone.org//NONSGML plone.app.event//EN
X-WR-TIMEZONE:Europe/Madrid
BEGIN:VEVENT
SUMMARY:Mirades al Món. Cinefòrum. "La noche más oscura"
DTSTART;TZID=Europe/Madrid;VALUE=DATE-TIME:20131115T193000
DTEND;TZID=Europe/Madrid;VALUE=DATE-TIME:20131115T203000
DTSTAMP;VALUE=DATE-TIME:20260422T131010Z
UID:b0086443ae0255e1f4bc6a4c59af83e8
CREATED;VALUE=DATE-TIME:20131115T000000Z
CATEGORIES:Cinema
LOCATION:Centre Cultural de Can Lleonart - Plaça dels Germans Lleonart, 1 08328 Alella
ORGANIZER:Ajuntament d'Alella
URL:https://alella.cat/document.php?id=3593
END:VEVENT
END:VCALENDAR