BEGIN:VCALENDAR
VERSION:2.0
PRODID:-//Plone.org//NONSGML plone.app.event//EN
X-WR-TIMEZONE:Europe/Madrid
BEGIN:VEVENT
SUMMARY:Espai 16/30. Xerrada. El nou títol de monitor/a de lleure
DTSTART;TZID=Europe/Madrid;VALUE=DATE-TIME:20131121T193000
DTEND;TZID=Europe/Madrid;VALUE=DATE-TIME:20131121T203000
DTSTAMP;VALUE=DATE-TIME:20260421T071314Z
UID:b77f243fcd23d97fcbe31cbcf3f5b363
CREATED;VALUE=DATE-TIME:20131121T000000Z
CATEGORIES:
LOCATION:Espai Jove - Avinguda Ferran Fabra, 1 08328
ORGANIZER:Ajuntament d'Alella
COMMENT:Preu: Gratuït
URL:https://alella.cat/document.php?id=3578
END:VEVENT
END:VCALENDAR