BEGIN:VCALENDAR
VERSION:2.0
PRODID:-//Plone.org//NONSGML plone.app.event//EN
X-WR-TIMEZONE:Europe/Madrid
BEGIN:VEVENT
SUMMARY:Correllengua 2013. Lliurament de Premis Literaris Alella 2013
DTSTART;TZID=Europe/Madrid;VALUE=DATE-TIME:20131019T190000
DTEND;TZID=Europe/Madrid;VALUE=DATE-TIME:20131019T200000
DTSTAMP;VALUE=DATE-TIME:20260424T041411Z
UID:cb3c2e8650800406eecf18186561e99c
CREATED;VALUE=DATE-TIME:20131019T000000Z
CATEGORIES:
LOCATION:Centre Cultural de Can Lleonart - Plaça dels Germans Lleonart, 1 08328 Alella
ORGANIZER:Ajuntament d'Alella
URL:https://alella.cat/document.php?id=3533
END:VEVENT
END:VCALENDAR