BEGIN:VCALENDAR
VERSION:2.0
PRODID:-//Plone.org//NONSGML plone.app.event//EN
X-WR-TIMEZONE:Europe/Madrid
BEGIN:VEVENT
SUMMARY:Sortida. Castanyada entre ermites, valls i cingles pel Montsant
DTSTART;TZID=Europe/Madrid;VALUE=DATE-TIME:20131101T000000
DTEND;TZID=Europe/Madrid;VALUE=DATE-TIME:20131101T010000
DTSTAMP;VALUE=DATE-TIME:20260423T124536Z
UID:5dddef893ffe576bd7a695293cb358d6
CREATED;VALUE=DATE-TIME:20131101T000000Z
CATEGORIES:
LOCATION:www.giroguies.com
ORGANIZER:Ajuntament d'Alella
COMMENT:Durada: De l'1 al 3 de novembre
URL:https://alella.cat/document.php?id=3528
END:VEVENT
END:VCALENDAR