BEGIN:VCALENDAR
VERSION:2.0
PRODID:-//Plone.org//NONSGML plone.app.event//EN
X-WR-TIMEZONE:Europe/Madrid
BEGIN:VEVENT
SUMMARY:Sortida al teatre Victòria. La família irreal
DTSTART;TZID=Europe/Madrid;VALUE=DATE-TIME:20131030T193000
DTEND;TZID=Europe/Madrid;VALUE=DATE-TIME:20131030T203000
DTSTAMP;VALUE=DATE-TIME:20260420T014413Z
UID:aa8287a090487be5102aa24178cb30d5
CREATED;VALUE=DATE-TIME:20131030T000000Z
CATEGORIES:
LOCATION:Davant de la plaça d'Antoni Pujadas
ORGANIZER:Ajuntament d'Alella
URL:https://alella.cat/document.php?id=3527
END:VEVENT
END:VCALENDAR