BEGIN:VCALENDAR
VERSION:2.0
PRODID:-//Plone.org//NONSGML plone.app.event//EN
X-WR-TIMEZONE:Europe/Madrid
BEGIN:VEVENT
SUMMARY:9a Trobada del Club dels Vins. El vi i els panellets
DTSTART;TZID=Europe/Madrid;VALUE=DATE-TIME:20131026T130000
DTEND;TZID=Europe/Madrid;VALUE=DATE-TIME:20131026T140000
DTSTAMP;VALUE=DATE-TIME:20260424T151422Z
UID:ab89b691fefce991b44099d9a12ea643
CREATED;VALUE=DATE-TIME:20131026T000000Z
CATEGORIES:
LOCATION:Oficina de Turisme - Riera Fosca 2. 08328 Alella
ORGANIZER:Ajuntament d'Alella
URL:https://alella.cat/document.php?id=3526
END:VEVENT
END:VCALENDAR